BEGIN:VCALENDAR
VERSION:2.0
PRODID:-//ATEMI Mont d&#039;Or - ECPv4.9.10//NONSGML v1.0//EN
CALSCALE:GREGORIAN
METHOD:PUBLISH
X-WR-CALNAME:ATEMI Mont d&#039;Or
X-ORIGINAL-URL:https://www.atemimontdor.com
X-WR-CALDESC:Évènements pour ATEMI Mont d&#039;Or
BEGIN:VTIMEZONE
TZID:Europe/Paris
BEGIN:DAYLIGHT
TZOFFSETFROM:+0100
TZOFFSETTO:+0200
TZNAME:CEST
DTSTART:20220327T010000
END:DAYLIGHT
BEGIN:STANDARD
TZOFFSETFROM:+0200
TZOFFSETTO:+0100
TZNAME:CET
DTSTART:20221030T010000
END:STANDARD
END:VTIMEZONE
BEGIN:VEVENT
DTSTART;TZID=Europe/Paris:20221016T090000
DTEND;TZID=Europe/Paris:20221016T120000
DTSTAMP:20260421T091030
CREATED:20220923T201226Z
LAST-MODIFIED:20220923T201226Z
UID:3766-1665910800-1665921600@www.atemimontdor.com
SUMMARY:qiqong et yang sheng\, sous forme yuan qi\, ouvert à tous\, avec Jean-Claude
DESCRIPTION:
URL:https://www.atemimontdor.com/event/qiqong-et-yang-sheng-sous-forme-yuan-qi-ouvert-a-tous-avec-jean-claude-5/
LOCATION:Dojo ATEMI Mont d’Or\, 6 rue du Lavoir\, Saint Germain au Mont d'Or\, 69650\, France
ORGANIZER;CN="Jean-Claude%20Guillot":MAILTO:atemimontdor@gmail.com
END:VEVENT
END:VCALENDAR