BEGIN:VCALENDAR
VERSION:2.0
PRODID:-//ATEMI Mont d&#039;Or - ECPv4.9.10//NONSGML v1.0//EN
CALSCALE:GREGORIAN
METHOD:PUBLISH
X-WR-CALNAME:ATEMI Mont d&#039;Or
X-ORIGINAL-URL:https://www.atemimontdor.com
X-WR-CALDESC:Évènements pour ATEMI Mont d&#039;Or
BEGIN:VTIMEZONE
TZID:Europe/Paris
BEGIN:DAYLIGHT
TZOFFSETFROM:+0100
TZOFFSETTO:+0200
TZNAME:CEST
DTSTART:20190331T010000
END:DAYLIGHT
BEGIN:STANDARD
TZOFFSETFROM:+0200
TZOFFSETTO:+0100
TZNAME:CET
DTSTART:20191027T010000
END:STANDARD
END:VTIMEZONE
BEGIN:VEVENT
DTSTART;TZID=Europe/Paris:20191208T140000
DTEND;TZID=Europe/Paris:20191208T170000
DTSTAMP:20260419T231634
CREATED:20190924T120753Z
LAST-MODIFIED:20190924T180828Z
UID:2152-1575813600-1575824400@www.atemimontdor.com
SUMMARY:Baton court du xing yi par Jérôme Guillot
DESCRIPTION:
URL:https://www.atemimontdor.com/event/baton-court-du-xing-yi-par-jerome-guillot/
CATEGORIES:FALSE
END:VEVENT
END:VCALENDAR