BEGIN:VCALENDAR
VERSION:2.0
PRODID:-//ATEMI Mont d&#039;Or - ECPv4.9.10//NONSGML v1.0//EN
CALSCALE:GREGORIAN
METHOD:PUBLISH
X-WR-CALNAME:ATEMI Mont d&#039;Or
X-ORIGINAL-URL:https://www.atemimontdor.com
X-WR-CALDESC:Évènements pour ATEMI Mont d&#039;Or
BEGIN:VTIMEZONE
TZID:Europe/Paris
BEGIN:DAYLIGHT
TZOFFSETFROM:+0100
TZOFFSETTO:+0200
TZNAME:CEST
DTSTART:20260329T010000
END:DAYLIGHT
BEGIN:STANDARD
TZOFFSETFROM:+0200
TZOFFSETTO:+0100
TZNAME:CET
DTSTART:20261025T010000
END:STANDARD
END:VTIMEZONE
BEGIN:VEVENT
DTSTART;TZID=Europe/Paris:20260510T093000
DTEND;TZID=Europe/Paris:20260510T123000
DTSTAMP:20260422T103540
CREATED:20250324T085408Z
LAST-MODIFIED:20251205T175420Z
UID:4313-1778405400-1778416200@www.atemimontdor.com
SUMMARY:Atelier Qi Gong - Yang Sheng
DESCRIPTION:
URL:https://www.atemimontdor.com/event/atelier-qi-gong-yang-sheng-3/
LOCATION:Dojo ATEMI Mont d’Or\, 6 rue du Lavoir\, Saint Germain au Mont d'Or\, 69650\, France
CATEGORIES:Atelier
ORGANIZER;CN="Marc%20Labaume":MAILTO:atemimontdor@gmail.com
END:VEVENT
END:VCALENDAR