BEGIN:VCALENDAR
VERSION:2.0
PRODID:-//ATEMI Mont d&#039;Or - ECPv4.9.10//NONSGML v1.0//EN
CALSCALE:GREGORIAN
METHOD:PUBLISH
X-WR-CALNAME:ATEMI Mont d&#039;Or
X-ORIGINAL-URL:https://www.atemimontdor.com
X-WR-CALDESC:Évènements pour ATEMI Mont d&#039;Or
BEGIN:VTIMEZONE
TZID:Europe/Paris
BEGIN:DAYLIGHT
TZOFFSETFROM:+0100
TZOFFSETTO:+0200
TZNAME:CEST
DTSTART:20250330T010000
END:DAYLIGHT
BEGIN:STANDARD
TZOFFSETFROM:+0200
TZOFFSETTO:+0100
TZNAME:CET
DTSTART:20251026T010000
END:STANDARD
END:VTIMEZONE
BEGIN:VEVENT
DTSTART;TZID=Europe/Paris:20251206T150000
DTEND;TZID=Europe/Paris:20251206T180000
DTSTAMP:20260424T153604
CREATED:20241204T160959Z
LAST-MODIFIED:20251022T125559Z
UID:4287-1765033200-1765044000@www.atemimontdor.com
SUMMARY:Atelier QI GONG - YUAN QI
DESCRIPTION:
URL:https://www.atemimontdor.com/event/atelier-qi-gong-2/
LOCATION:Dojo ATEMI Mont d’Or\, 6 rue du Lavoir\, Saint Germain au Mont d'Or\, 69650\, France
ORGANIZER;CN="Jean-Claude%20Guillot":MAILTO:atemimontdor@gmail.com
END:VEVENT
END:VCALENDAR