BEGIN:VCALENDAR
VERSION:2.0
PRODID:-//ATEMI Mont d&#039;Or - ECPv4.9.10//NONSGML v1.0//EN
CALSCALE:GREGORIAN
METHOD:PUBLISH
X-WR-CALNAME:ATEMI Mont d&#039;Or
X-ORIGINAL-URL:https://www.atemimontdor.com
X-WR-CALDESC:Évènements pour ATEMI Mont d&#039;Or
BEGIN:VTIMEZONE
TZID:Europe/Paris
BEGIN:DAYLIGHT
TZOFFSETFROM:+0100
TZOFFSETTO:+0200
TZNAME:CEST
DTSTART:20250330T010000
END:DAYLIGHT
BEGIN:STANDARD
TZOFFSETFROM:+0200
TZOFFSETTO:+0100
TZNAME:CET
DTSTART:20251026T010000
END:STANDARD
END:VTIMEZONE
BEGIN:VEVENT
DTSTART;TZID=Europe/Paris:20250627T190000
DTEND;TZID=Europe/Paris:20250627T220000
DTSTAMP:20260425T022629
CREATED:20241204T161322Z
LAST-MODIFIED:20241204T161905Z
UID:4291-1751050800-1751061600@www.atemimontdor.com
SUMMARY:Assemblée générale annuelle ATEMI
DESCRIPTION:
URL:https://www.atemimontdor.com/event/assemblee-generale-annuelle-atemi/
LOCATION:Jardin de Françoise et Jean-Claude Guillot\, 4 impasse du puit\, Saint Germain au Mont D'Or\, 69650\, France
CATEGORIES:AG
ORGANIZER;CN="ATEMI":MAILTO:atemimontdor@gmail.com
END:VEVENT
END:VCALENDAR