BEGIN:VCALENDAR
VERSION:2.0
PRODID:-//ATEMI Mont d&#039;Or - ECPv4.9.10//NONSGML v1.0//EN
CALSCALE:GREGORIAN
METHOD:PUBLISH
X-WR-CALNAME:ATEMI Mont d&#039;Or
X-ORIGINAL-URL:https://www.atemimontdor.com
X-WR-CALDESC:Évènements pour ATEMI Mont d&#039;Or
BEGIN:VTIMEZONE
TZID:Europe/Paris
BEGIN:DAYLIGHT
TZOFFSETFROM:+0100
TZOFFSETTO:+0200
TZNAME:CEST
DTSTART:20240331T010000
END:DAYLIGHT
BEGIN:STANDARD
TZOFFSETFROM:+0200
TZOFFSETTO:+0100
TZNAME:CET
DTSTART:20241027T010000
END:STANDARD
END:VTIMEZONE
BEGIN:VEVENT
DTSTART;TZID=Europe/Paris:20241215T090000
DTEND;TZID=Europe/Paris:20241215T120000
DTSTAMP:20260425T131839
CREATED:20240822T092213Z
LAST-MODIFIED:20240830T163034Z
UID:4183-1734253200-1734264000@www.atemimontdor.com
SUMMARY:Atelier Qi Gong - Yuan Qi (Corps Global)
DESCRIPTION:
URL:https://www.atemimontdor.com/event/atelier-qi-gong-yuan-qi/
LOCATION:Dojo ATEMI Mont d’Or\, 6 rue du Lavoir\, Saint Germain au Mont d'Or\, 69650\, France
CATEGORIES:Atelier
ORGANIZER;CN="Jean-Claude%20Guillot":MAILTO:atemimontdor@gmail.com
END:VEVENT
BEGIN:VEVENT
DTSTART;TZID=Europe/Paris:20241215T150000
DTEND;TZID=Europe/Paris:20241215T180000
DTSTAMP:20260425T131839
CREATED:20240822T093234Z
LAST-MODIFIED:20240822T093242Z
UID:4185-1734274800-1734285600@www.atemimontdor.com
SUMMARY:Atelier Travail par 2 et différentes formes d'opposition et de combat
DESCRIPTION:
URL:https://www.atemimontdor.com/event/atelier-travail-par-2-et-differentes-formes-dopposition-et-de-combat/
LOCATION:Dojo ATEMI Mont d’Or\, 6 rue du Lavoir\, Saint Germain au Mont d'Or\, 69650\, France
CATEGORIES:Atelier
ORGANIZER;CN="Jean-Claude%20Guillot":MAILTO:atemimontdor@gmail.com
END:VEVENT
END:VCALENDAR